BEGIN:VCALENDAR
VERSION:2.0
PRODID:icalendar-ruby
CALSCALE:GREGORIAN
METHOD:PUBLISH
BEGIN:VEVENT
DTSTAMP:20260423T163525Z
UID:345-6264324@rpcchurch.ca
DTSTART:20270306T183000Z
DTEND:20270306T203000Z
CLASS:PUBLIC
CREATED:20260318T131215
DESCRIPTION:You are invited for "Brunch For Six"\, where small groups of wo
 men from RPC can get to know each other\, to fellowship and of course\, to
  eat brunch. One lady will host the brunch in her home and the other fi
 ve will bring a food item to share. \nSign-up in the link below! When sign
 ing up\, you will need to mention if they would like to host or not. Also\
 , please list any food allergies or dietary restrictions. If you'd like yo
 u can also sign up with a buddy\, otherwise everyone will be randomly grou
 ped together :)\n 
LAST-MODIFIED:20260318T131215
LOCATION:
SUMMARY:Brunch For Six
URL;VALUE=URI:https://www.rpcchurch.ca/events/brunch-for-six/2027-03-06
ATTACH;FILENAME=Website Events.jpg;FMTTYPE=image/jpeg:https://dq5pwpg1q8ru0
 .cloudfront.net/2024/08/21/18/38/41/3fdd3564-285f-415c-9946-bab9ab5bcfd2/W
 ebsite%20Events.jpg
END:VEVENT
END:VCALENDAR
