BEGIN:VCALENDAR
VERSION:2.0
PRODID:icalendar-ruby
CALSCALE:GREGORIAN
METHOD:PUBLISH
BEGIN:VEVENT
DTSTAMP:20260422T004908Z
UID:422-7029273@rpcchurch.ca
DTSTART:20261008T020000Z
DTEND:20261008T033000Z
CLASS:PUBLIC
CREATED:20260421T161509
DESCRIPTION:We warmly invite you to join our Men's Bible Study\, held every
  Wednesday evening at 7 PM at our church. This gathering is more than just
  a study session\; it’s a heartfelt opportunity to delve into the Script
 ures together\, offering a rich atmosphere for fellowship and spiritual gr
 owth.\nIn our sessions\, we explore various Biblical texts\, discuss their
  meanings\, and how they apply to our daily lives. It’s a safe place to 
 ask questions freely\, share your thoughts\, and deepen your understanding
  of God’s love. \nAdditionally\, we create a joyful environment filled 
 with camaraderie\, laughter\, and encouragement as we navigate our faith j
 ourneys. If you are seeking a community where you truly belong and a place
  to nurture your relationship with God while enjoying the company of like-
 minded men\, our Men’s Bible Study is the perfect fit for you. We look f
 orward to seeing you there!\nContact us for more information!
LAST-MODIFIED:20260421T161509
LOCATION:9300 Westminster Highway\, Richmond\, BC
SUMMARY:Dig Deeper Bible Study 
URL;VALUE=URI:https://www.rpcchurch.ca/events/dig-deeper-bible-study--422/2
 026-10-07
ATTACH;FILENAME=Website Events.png;FMTTYPE=image/png:https://dq5pwpg1q8ru0.
 cloudfront.net/2026/03/25/21/51/06/a06b5646-737d-4efe-b8d8-ff1530b0db05/We
 bsite%20Events.png
END:VEVENT
END:VCALENDAR
